BEGIN:VCALENDAR
VERSION:2.0
PRODID:-//ChamberMaster//Event Calendar 2.0//EN
METHOD:PUBLISH
X-PUBLISHED-TTL:P3D
REFRESH-INTERVAL:P3D
CALSCALE:GREGORIAN
BEGIN:VEVENT
DTSTART:20160607T213000Z
DTEND:20160607T233000Z
X-MICROSOFT-CDO-ALLDAYEVENT:FALSE
SUMMARY:OPEN HOUSE
DESCRIPTION:Please join us for Autumn Glen Senior Living Open House--Voted  Reader's Choice BEST Assisted Living & Memory Care!\n\nRegister for door Prizes and refreshments will be served.   Autumn Glen offers Apartment Living-Assisted Living-Memory Care.  Come in for a tour!
X-ALT-DESC;FMTTYPE=text/html:<div>Please join us for Autumn Glen Senior Living Open House--Voted &nbsp\;Reader&#39\;s Choice BEST Assisted Living &amp\; Memory Care!<br />\nRegister for door Prizes and refreshments will be served. &nbsp\; Autumn Glen offers Apartment Living-Assisted Living-Memory Care. &nbsp\;Come in for a tour!</div>\n
LOCATION:3715 Coon Rapids Blvd NW Coon Rapids\, MN 55433
UID:e.380.168453
SEQUENCE:3
DTSTAMP:20260422T114611Z
URL:http://members.metronorthchamber.org/events/details/open-house-06-07-2016-168453
END:VEVENT

END:VCALENDAR
