BEGIN:VCALENDAR
VERSION:2.0
PRODID:-//ChamberMaster//Event Calendar 2.0//EN
METHOD:PUBLISH
X-PUBLISHED-TTL:P3D
REFRESH-INTERVAL:P3D
CALSCALE:GREGORIAN
BEGIN:VEVENT
DTSTART;VALUE=DATE:20151219
DTEND;VALUE=DATE:20151220
TRANSP:TRANSPARENT
X-MICROSOFT-CDO-ALLDAYEVENT:TRUE
SUMMARY:Open Gym with Santa
DESCRIPTION:Come visit with Santa at Open Gym!
X-ALT-DESC;FMTTYPE=text/html:Come visit with Santa at Open Gym!
LOCATION:14216 Lincoln St. NE\, Ham Lake
UID:e.380.159869
SEQUENCE:3
DTSTAMP:20260422T204853Z
URL:http://members.metronorthchamber.org/events/details/open-gym-with-santa-12-19-2015-159869
END:VEVENT

END:VCALENDAR
