BEGIN:VCALENDAR
VERSION:2.0
PRODID:-//ChamberMaster//Event Calendar 2.0//EN
METHOD:PUBLISH
X-PUBLISHED-TTL:P3D
REFRESH-INTERVAL:P3D
CALSCALE:GREGORIAN
BEGIN:VEVENT
DTSTART:20161217T193000Z
DTEND:20161217T210000Z
X-MICROSOFT-CDO-ALLDAYEVENT:FALSE
SUMMARY:Open Gym with Santa
DESCRIPTION:Come visit with Santa at our Open Gym!
X-ALT-DESC;FMTTYPE=text/html:Come visit with Santa at our Open Gym!
LOCATION:14216 Lincoln St. NE\, Ham Lake
UID:e.380.169894
SEQUENCE:3
DTSTAMP:20260421T235529Z
URL:http://members.metronorthchamber.org/events/details/open-gym-with-santa-12-17-2016-169894
END:VEVENT

END:VCALENDAR
