BEGIN:VCALENDAR
VERSION:2.0
PRODID:-//ChamberMaster//Event Calendar 2.0//EN
METHOD:PUBLISH
X-PUBLISHED-TTL:P3D
REFRESH-INTERVAL:P3D
CALSCALE:GREGORIAN
BEGIN:VEVENT
DTSTART:20191229T220000Z
DTEND:20191230T000000Z
X-MICROSOFT-CDO-ALLDAYEVENT:FALSE
SUMMARY:Open Gym and Pizza Night
DESCRIPTION:Open gym and a pizza party.\n	 2 slices pizza each with a juice box or water\n	Ages 5-18
X-ALT-DESC;FMTTYPE=text/html:<ul>\n	<li>Open gym and a pizza party.</li>\n	<li>&nbsp\;2 slices pizza each with a juice box or water</li>\n	<li>Ages 5-18</li>\n</ul>\n
LOCATION:1460 133rd Lane NE\, Ham Lake
UID:e.380.191725
SEQUENCE:3
DTSTAMP:20260419T142302Z
URL:http://members.metronorthchamber.org/events/details/open-gym-and-pizza-night-191725
END:VEVENT

END:VCALENDAR
