BEGIN:VCALENDAR
VERSION:2.0
PRODID:-//ChamberMaster//Event Calendar 2.0//EN
METHOD:PUBLISH
X-PUBLISHED-TTL:P3D
REFRESH-INTERVAL:P3D
CALSCALE:GREGORIAN
BEGIN:VEVENT
DTSTART:20120301T133000Z
DTEND:20120301T153000Z
X-MICROSOFT-CDO-ALLDAYEVENT:FALSE
SUMMARY:Open for Business Workshop
DESCRIPTION:Join the Minnesota Department of Transportation Metro District for a business workshop to help your business survive and thrive during construction. Guests will get an overview of the many current and future construction projects planned for the I-694 corridor and surrounding roadways between interstate 35W and Victoria Street. In addition there will be practical tips to help your business thrive during construction.\n\n\n\nA $12.75 breakfast buffet will be available. Preregistration and payment for breakfast is required by Friday\, February 24th by calling the venue.\n\n\n\nDownload a copy of the flyer here.
X-ALT-DESC;FMTTYPE=text/html:<span style="color: rgb(0\, 0\, 128)\;"><span style="font-size: 10px\;"><span style="font-family: tahoma\;">Join the Minnesota Department of Transportation Metro District for a business workshop to help your business survive and thrive during construction. Guests will get an overview of the many current and future construction projects planned for the I-694 corridor and surrounding roadways between interstate 35W and Victoria Street. In addition there will be practical tips to help your business thrive during </span></span><span style="font-size: 10px\;"><span style="font-family: tahoma\;">construction.</span></span></span><br />\n<br />\n<span style="font-size:10px\;"><span style="color: rgb(0\, 0\, 128)\;"><span style="font-family: tahoma\;">A $12.75 breakfast buffet will be available. Preregistration and payment for breakfast is required by Friday\, February 24th by calling the venue.</span></span></span><br />\n<br />\n<span style="color:#000080\;"><span style="font-size: 10px\;"><span style="font-family: tahoma\;">Download a copy of the flyer </span></span></span><a href="http://cloud.chambermaster.com/userfiles/UserFiles/chambers/380/File/SurviveduringConstruction694-10.pdf"><span style="color:#0000ff\;"><span style="font-size: 10px\;"><span style="font-family: tahoma\;">here</span></span></span></a><span style="color: rgb(0\, 0\, 128)\;"><span style="font-size: 10px\;"><span style="font-family: tahoma\;">.</span></span></span>
LOCATION:Green Mill Restaurant 1000 Gramsie Rd Shoreview 651-482-1600 (ask for Angie)
UID:e.380.143472
SEQUENCE:3
DTSTAMP:20260425T210655Z
URL:http://members.metronorthchamber.org/events/details/open-for-business-workshop-03-01-2012-143472
END:VEVENT

END:VCALENDAR
