BEGIN:VCALENDAR
VERSION:2.0
PRODID:-//ChamberMaster//Event Calendar 2.0//EN
METHOD:PUBLISH
X-PUBLISHED-TTL:P3D
REFRESH-INTERVAL:P3D
CALSCALE:GREGORIAN
BEGIN:VEVENT
DTSTART:20171202T180000Z
DTEND:20171203T060000Z
X-MICROSOFT-CDO-ALLDAYEVENT:FALSE
SUMMARY:One-Twenty Barrel-Strength Whiskey Release Party
DESCRIPTION:Join us for our newest whiskey release. \n\n\n\nONE-TWENTY Barrel-Strength Single Malt Whiskey!\n\n\n\n120.6 Proof!\n\n\n\nhttp://www.bentbrewstillery.com/one-twenty-is-a-one-two-stunner/ \n\n\n\nYES! WHISKEY COCKTAILS WILL BE SERVED ALL DAY (While supplies last...)\n\n\n\nOur last whiskey release sold out in 2.5 hours. Don't be late!\n\n\n\nOne-Twenty is Barrel-Strength because it's bottled at the same proof as it comes out of the barrel. This is whiskey turned up to 11! It is best served with a bit of ice and/or dash of water to open up the aromas and full flavor. Allow the whiskey to "breath" for a few minutes before enjoying. \n\nViscous\, robust and spicy. You'll notice how the liquid sticks the sides and slides down. This is an indication of the thick mouth feel to come. It blooms warmly from the glass with aromas of honeyed pears\, cream caramel and sherry. The flavor strikes hotly but not too aggressively with hints of oak\, toasted marshmallows and golden syrup.
X-ALT-DESC;FMTTYPE=text/html:<span style="color: rgb(75\, 79\, 86)\; font-family: Helvetica\, Arial\, sans-serif\; font-size: 14px\;">Join us for our newest whiskey release.&nbsp\;</span><br style="color: rgb(75\, 79\, 86)\; font-family: Helvetica\, Arial\, sans-serif\; font-size: 14px\;" />\n<br style="color: rgb(75\, 79\, 86)\; font-family: Helvetica\, Arial\, sans-serif\; font-size: 14px\;" />\n<span style="color: rgb(75\, 79\, 86)\; font-family: Helvetica\, Arial\, sans-serif\; font-size: 14px\;">ONE-TWENTY Barrel-Strength Single Malt Whiskey!</span><br style="color: rgb(75\, 79\, 86)\; font-family: Helvetica\, Arial\, sans-serif\; font-size: 14px\;" />\n<br style="color: rgb(75\, 79\, 86)\; font-family: Helvetica\, Arial\, sans-serif\; font-size: 14px\;" />\n<span style="color: rgb(75\, 79\, 86)\; font-family: Helvetica\, Arial\, sans-serif\; font-size: 14px\;">120.6 Proof!</span><br style="color: rgb(75\, 79\, 86)\; font-family: Helvetica\, Arial\, sans-serif\; font-size: 14px\;" />\n<br style="color: rgb(75\, 79\, 86)\; font-family: Helvetica\, Arial\, sans-serif\; font-size: 14px\;" />\n<a data-lynx-mode="async" href="https://l.facebook.com/l.php?u=http%3A%2F%2Fwww.bentbrewstillery.com%2Fone-twenty-is-a-one-two-stunner%2F&amp\;h=ATMfH6ZmV_DacS4FZknm3EBBWlAK3DstvlTcWMuuFZMCjhVNi8zibv4Pbr5ew04uEhuWpYE_CYJy_M-GET76yR_ly7Qg_oT2z5F_K6bPzUU0jBVc_BKmPxtxOgta9S_DNIJdIPK1MSmYK0QCkn8rKxJOOWMUXeYJbGIPlZ0azuQDF78" rel="nofollow noopener" style="color: rgb(54\, 88\, 153)\; cursor: pointer\; text-decoration-line: none\; font-family: Helvetica\, Arial\, sans-serif\; font-size: 14px\;" target="_blank"><span style="font-family: inherit\;">http://</span><wbr /><span style="font-family: inherit\;">www.bentbrewstillery.com/</span><wbr /><span style="font-family: inherit\;">one-twenty-is-a-one-two-stu</span><wbr />nner/</a><span style="color: rgb(75\, 79\, 86)\; font-family: Helvetica\, Arial\, sans-serif\; font-size: 14px\;">&nbsp\;</span><br style="color: rgb(75\, 79\, 86)\; font-family: Helvetica\, Arial\, sans-serif\; font-size: 14px\;" />\n<br style="color: rgb(75\, 79\, 86)\; font-family: Helvetica\, Arial\, sans-serif\; font-size: 14px\;" />\n<span style="color: rgb(75\, 79\, 86)\; font-family: Helvetica\, Arial\, sans-serif\; font-size: 14px\;">YES! WHISKEY COCKTAILS WILL BE SERVED ALL DAY (While supplies last...)</span><br style="color: rgb(75\, 79\, 86)\; font-family: Helvetica\, Arial\, sans-serif\; font-size: 14px\;" />\n<br style="color: rgb(75\, 79\, 86)\; font-family: Helvetica\, Arial\, sans-serif\; font-size: 14px\;" />\n<span style="color: rgb(75\, 79\, 86)\; font-family: Helvetica\, Arial\, sans-serif\; font-size: 14px\;">Our last whiskey release sold out in 2.5 hours. Don&#39\;t be late!</span><br style="color: rgb(75\, 79\, 86)\; font-family: Helvetica\, Arial\, sans-serif\; font-size: 14px\;" />\n<br style="color: rgb(75\, 79\, 86)\; font-family: Helvetica\, Arial\, sans-serif\; font-size: 14px\;" />\n<span style="color: rgb(75\, 79\, 86)\; font-family: Helvetica\, Arial\, sans-serif\; font-size: 14px\;">One-Twenty is Barrel-Strength because it&rsquo\;s bottled at the same proof as it comes out of the barrel. This is whiskey turned up to 11! It is best served with a bit of ice and/or dash of water to open up the aromas and full flavor. Allow the whiskey to &ldquo\;breath&rdquo\; for a few minutes before enjoying.&nbsp\;</span><br style="color: rgb(75\, 79\, 86)\; font-family: Helvetica\, Arial\, sans-serif\; font-size: 14px\;" />\n<span style="color: rgb(75\, 79\, 86)\; font-family: Helvetica\, Arial\, sans-serif\; font-size: 14px\;">Viscous\, robust and spicy. You&rsquo\;ll notice how the liquid sticks the sides and slides down. This is an indication of the thick mouth feel to come. It blooms warmly from the glass with aromas of honeyed pears\, cream caramel and sherry. The flavor strikes hotly but not too aggressively with hints of oak\, toasted marshmallows and golden syrup.</span>
LOCATION:Bent Brewstillery 1744 Terrace Dr. Roseville 55113
UID:e.380.179456
SEQUENCE:3
DTSTAMP:20260421T051635Z
URL:http://members.metronorthchamber.org/events/details/one-twenty-barrel-strength-whiskey-release-party-179456
END:VEVENT

END:VCALENDAR
