BEGIN:VCALENDAR
VERSION:2.0
PRODID:-//ChamberMaster//Event Calendar 2.0//EN
METHOD:PUBLISH
X-PUBLISHED-TTL:P3D
REFRESH-INTERVAL:P3D
CALSCALE:GREGORIAN
BEGIN:VEVENT
DTSTART:20150814T003000Z
DTEND:20150814T013000Z
X-MICROSOFT-CDO-ALLDAYEVENT:FALSE
SUMMARY:One Simple Change
DESCRIPTION:How to make big leaps in your health with tiny steps.\n\n\n\nStaciJoy RN BSN HNC\, published author\, international speaker and bradcaster\, has over 20 years experience as a Board Certified Holistic Public Health Nurse in private practice.
X-ALT-DESC;FMTTYPE=text/html:How to make big leaps in your health with tiny steps.<br />\n<br />\nStaciJoy RN BSN HNC\, published author\, international speaker and bradcaster\, has over 20 years experience as a Board Certified Holistic Public Health Nurse in private practice.&nbsp\;
LOCATION:Oak Marsh Golf Course 526 Inwood Ave. N Oakdale\, MN 55128
UID:e.380.158516
SEQUENCE:3
DTSTAMP:20260423T042930Z
URL:http://members.metronorthchamber.org/events/details/one-simple-change-08-13-2015-158516
END:VEVENT

END:VCALENDAR
