BEGIN:VCALENDAR
VERSION:2.0
PRODID:-//ChamberMaster//Event Calendar 2.0//EN
METHOD:PUBLISH
X-PUBLISHED-TTL:P3D
REFRESH-INTERVAL:P3D
CALSCALE:GREGORIAN
BEGIN:VEVENT
DTSTART:20120713T210000Z
DTEND:20120713T220000Z
X-MICROSOFT-CDO-ALLDAYEVENT:FALSE
SUMMARY:On Target Networking
DESCRIPTION:Join us for our 2nd Annual On Target Networking event at The Metro Gun Club! Enjoy a fun "networking challenge" before you take a shot at trap shooting! Bring your gun or rent one for a small fee. The cost includes 1 round of trap shooting\, food and networking. We'll divide up into teams & have a friendly competition   whether you are a novice or an expert marksman\, it will be an amazing time. No experience necessary.\n\n	\n\n	Here's what our event sponsor\, Financial One Credit Union\, has to say about last year's event... "Last year's On Target Networking event was a blast (pun intended)! Not only did I thoroughly enjoy the skeet shoot\, I found myself cheering for fellow Chamber members I had never met before. Having fun\, meeting new people and sharing memorable experiences  That's networking at its best."\n\n	~ Ross Bloomquist\, Financial One Credit Union\n\n	\n\n	**IMPORTANT! Please note**\n\n	\n\n	~If you are bringing your own gun\, it must be a 12 Gauge or under (12 Gauge\, 16 Gauge\, Etc.)\n\n	\n\n	~ There is a $10 fee if you need to rent a gun\n\n	\n\n	~ If you will be renting a gun\, you must let the Chamber know by Monday\, July 9 to guarantee your reservation
X-ALT-DESC;FMTTYPE=text/html:<p>\n	<span style="color: rgb(0\,0\,128)"><span style="font-size: 11px"><span style="font-family: tahoma">Join us for our 2nd Annual On Target Networking event at The Metro Gun Club! Enjoy a fun &quot\;networking challenge&quot\; before you take a shot at trap shooting! Bring your gun or rent one for a small fee. The cost includes 1 round of trap shooting\, food and networking. We&rsquo\;ll divide up into teams &amp\; have a friendly competition &ndash\; whether you are a novice or an expert marksman\, it will be an amazing time. No experience necessary.</span></span></span><br />\n	<br />\n	<span style="color: #000080"><span style="font-size: 11px"><span style="font-family: tahoma">Here&rsquo\;s what our event sponsor\, Financial One Credit Union\, has to say about last year&rsquo\;s event... &ldquo\;Last year&#39\;s On Target Networking event was a blast (pun intended)! Not only did I thoroughly enjoy the skeet shoot\, I found myself cheering for fellow Chamber members I had never met before. Having fun\, meeting new people and sharing memorable experiences&hellip\; That&rsquo\;s networking at its best.&rdquo\;<br />\n	~ Ross Bloomquist\, Financial One Credit Union</span></span><br />\n	<br />\n	<span style="font-size: 12px"><span style="font-family: tahoma"><strong>**IMPORTANT! Please note**<br />\n	<br />\n	~If you are bringing your own gun\, it must be a 12 Gauge or under (12 Gauge\, 16 Gauge\, Etc.)<br />\n	<br />\n	~ There is a $10 fee if you need to rent a gun<br />\n	<br />\n	~ If you will be renting a gun\, you must let the Chamber know by Monday\, July 9 to guarantee your reservation</strong></span></span></span></p>\n
LOCATION:Metro Gun Club 10601 Naples St NE Blaine\, MN 55449
UID:e.380.143481
SEQUENCE:3
DTSTAMP:20260425T142623Z
URL:http://members.metronorthchamber.org/events/details/on-target-networking-07-13-2012-143481
END:VEVENT

END:VCALENDAR
