BEGIN:VCALENDAR
VERSION:2.0
PRODID:-//ChamberMaster//Event Calendar 2.0//EN
METHOD:PUBLISH
X-PUBLISHED-TTL:P3D
REFRESH-INTERVAL:P3D
CALSCALE:GREGORIAN
BEGIN:VEVENT
DTSTART:20190219T224500Z
DTEND:20190220T003000Z
X-MICROSOFT-CDO-ALLDAYEVENT:FALSE
SUMMARY:Olive Garden Wine Event 2019
DESCRIPTION:Enjoy several courses of delicious Olive Garden food paired with delectable wine\, along with high quality networking and connections.
X-ALT-DESC;FMTTYPE=text/html:Enjoy several courses of delicious Olive Garden food paired with delectable wine\, along with high quality networking and connections.&nbsp\;<br />\n<br />\n&nbsp\;
LOCATION:Olive Garden 150 Coon Rapids Boulevard Coon Rapids 55433
UID:e.380.187502
SEQUENCE:3
DTSTAMP:20260420T073717Z
URL:http://members.metronorthchamber.org/events/details/olive-garden-wine-event-2019-187502
END:VEVENT

END:VCALENDAR
