BEGIN:VCALENDAR
VERSION:2.0
PRODID:-//ChamberMaster//Event Calendar 2.0//EN
METHOD:PUBLISH
X-PUBLISHED-TTL:P3D
REFRESH-INTERVAL:P3D
CALSCALE:GREGORIAN
BEGIN:VEVENT
DTSTART:20160216T224500Z
DTEND:20160217T003000Z
X-MICROSOFT-CDO-ALLDAYEVENT:FALSE
SUMMARY:Olive Garden Wine Event
DESCRIPTION:Held in their private dining room\, attendees will enjoy 4-5 wines\, each paired with a different Olive Garden menu item.
X-ALT-DESC;FMTTYPE=text/html:Held in their private dining room\, attendees will enjoy 4-5 wines\, each paired with a different Olive Garden menu item.
LOCATION:Olive Garden - Coon Rapids 150 Coon Rapids Blvd
UID:e.380.160919
SEQUENCE:3
DTSTAMP:20260422T175848Z
URL:http://members.metronorthchamber.org/events/details/olive-garden-wine-event-02-16-2016-160919
END:VEVENT

END:VCALENDAR
