BEGIN:VCALENDAR
VERSION:2.0
PRODID:-//ChamberMaster//Event Calendar 2.0//EN
METHOD:PUBLISH
X-PUBLISHED-TTL:P3D
REFRESH-INTERVAL:P3D
CALSCALE:GREGORIAN
BEGIN:VEVENT
DTSTART;VALUE=DATE:20140709
DTEND;VALUE=DATE:20140712
TRANSP:TRANSPARENT
X-MICROSOFT-CDO-ALLDAYEVENT:TRUE
SUMMARY:Nuts\, Bolts and Thingamajigs: Camp "I am the FUTURE"
DESCRIPTION:Biomedical Technology Camp - NEW\n\n\nWednesday\, July 9\, 2014 - Friday\, July 11\, 2014\n\n9:00 AM to 2:30 PM\nThis is a brand new camp for 2014.  Biomedical Technology touches lives each day from a simple bandage to a high tech pacemaker.   Minnesota is home to over 400 FDA regulated medical device companies and the corporate headquarters of both Medtronic and St. Jude Medical.  Learn how devices are used to treat and diagnose medical conditions. Tour local medical device manufacturers and see the advanced manufacturing that goes into making a medical device.  Discover the history of the medical device industry in Minnesota and how it all started by a man named Earl Bakken (a visit to the Bakken Museum). Students will build their own heart-rate monitor (they can bring home) and also conduct a heart dissection.  This is a "hands-on" camp that will introduce you to STEM careers that are changing lives!\n\n\n\n\nRegistration Closes on Friday\, May 23\, 2014.\n\nStudents will need to complete two short essays as part of the registration process.  The essays will be reviewed by the camp staff and used as a method for camper selection.
X-ALT-DESC;FMTTYPE=text/html:<h4>&nbsp\;</h4>\n\n<h3><strong>Biomedical Technology Camp - <em><span style="text-decoration: underline\;">NEW</span></em></strong></h3>\n<br />\n<strong>Wednesday\, July 9\, 2014 - Friday\, July 11\, 2014</strong><br />\n9:00 AM to 2:30 PM\n<p>This is a brand new camp for 2014. &nbsp\;Biomedical Technology touches lives each day from a simple bandage to a high tech pacemaker. &nbsp\; Minnesota is home to over 400 FDA regulated medical device companies and the corporate headquarters of both Medtronic and St. Jude Medical. &nbsp\;Learn how devices are used to treat and diagnose medical conditions. Tour local medical device manufacturers and see the advanced manufacturing that goes into making a medical device. &nbsp\;Discover the history of the medical device industry in Minnesota and how it all started by a man named Earl Bakken (a visit to the Bakken Museum). Students will build their own heart-rate monitor (they can bring home) and also conduct a heart dissection. &nbsp\;This is a &quot\;hands-on&quot\; camp that will introduce you to STEM careers that are changing lives!</p>\n<br />\n<br />\n<strong>Registration Closes on Friday\, May 23\, 2014.</strong><br />\nStudents will need to complete two short essays as part of the registration process. &nbsp\;The essays will be reviewed by the camp staff and used as a method for camper selection.
LOCATION:Anoka Technical College 1355 West Highway 10 Anoka\, MN 55303
UID:e.380.151275
SEQUENCE:3
DTSTAMP:20260423T235205Z
URL:http://members.metronorthchamber.org/events/details/nuts-bolts-and-thingamajigs-camp-i-am-the-future-07-09-2014-151275
END:VEVENT

END:VCALENDAR
