BEGIN:VCALENDAR
VERSION:2.0
PRODID:-//ChamberMaster//Event Calendar 2.0//EN
METHOD:PUBLISH
X-PUBLISHED-TTL:P3D
REFRESH-INTERVAL:P3D
CALSCALE:GREGORIAN
BEGIN:VEVENT
DTSTART;VALUE=DATE:20140623
DTEND;VALUE=DATE:20140627
TRANSP:TRANSPARENT
X-MICROSOFT-CDO-ALLDAYEVENT:TRUE
SUMMARY:Nuts\, Bolts and Thingamajigs: Camp "I am the FUTURE"
DESCRIPTION:Advanced Manufacturing Camp\n\n\nMonday\, June 23\, 2014 - Thursday\, June 26\, 2014\n\n9:00 AM to 2:30 PM\n\n\n\nThe Advanced Manufacturing Camp will introduce students\, ages 13-15\, to the manufacturing industry with real hands-on experience and industry tours.  Interested in being a Design Engineer\, Machinist or Welder?  During Camp\, a student will utilize the same equipment the professionals use to create and manufacturer their own designs.  On industry tours\, students will witness\, and take part in\, the design and production of an actual product. This is a great introduction to manufacturing and the many highly skilled careers in this industry.  But\, the best part of Camp is...it's tons of FUN!  Watch the video to see some of the camp highlights from last year.\n\n\n\nRegistration Closes on Friday\, May 23\, 2014.\n\nStudents will need to complete two short essays as part of the registration process.  The essays will be reviewed by the camp staff and used as a method for camper selection.
X-ALT-DESC;FMTTYPE=text/html:<h3><br />\n<strong>Advanced Manufacturing Camp</strong></h3>\n<br />\n<strong>Monday\, June 23\, 2014 - Thursday\, June 26\, 2014</strong><br />\n9:00 AM to 2:30 PM<br />\n<br />\nThe Advanced Manufacturing Camp will introduce students\, ages 13-15\, to the manufacturing&nbsp\;industry with real hands-on experience and industry tours.&nbsp\; Interested in being a Design Engineer\, Machinist or Welder? &nbsp\;During Camp\, a student will utilize the same equipment the professionals&nbsp\;use to&nbsp\;create and manufacturer their own designs. &nbsp\;On industry tours\, students will witness\, and take part in\, the design and production of an actual product. This is a great introduction to manufacturing and the many highly skilled&nbsp\;careers in this industry. &nbsp\;But\, the best part of Camp is...it&#39\;s tons of FUN! &nbsp\;Watch the video to see some of the camp highlights from last year.<br />\n<br />\n<strong>Registration Closes on Friday\, May 23\, 2014.</strong><br />\nStudents will need to complete two short essays as part of the registration process. &nbsp\;The essays will be reviewed by the camp staff and used as a method for camper selection.
LOCATION:Anoka Technical College 1355 West Highway 10 Anoka\, MN 55303
UID:e.380.151274
SEQUENCE:3
DTSTAMP:20260424T012908Z
URL:http://members.metronorthchamber.org/events/details/nuts-bolts-and-thingamajigs-camp-i-am-the-future-06-23-2014-151274
END:VEVENT

END:VCALENDAR
