BEGIN:VCALENDAR
VERSION:2.0
PRODID:-//ChamberMaster//Event Calendar 2.0//EN
METHOD:PUBLISH
X-PUBLISHED-TTL:P3D
REFRESH-INTERVAL:P3D
CALSCALE:GREGORIAN
BEGIN:VEVENT
DTSTART:20170211T160000Z
DTEND:20170211T164500Z
X-MICROSOFT-CDO-ALLDAYEVENT:FALSE
SUMMARY:Nutrition for optimal Performance
DESCRIPTION:How and What to eat for optimal performance in and out of the gym....\n\nregardless of age.....but let's be real\, hormones play a big role in this so we will discuss how men and women are affected as we age
X-ALT-DESC;FMTTYPE=text/html:How and What to eat for optimal performance in and out of the gym....<br />\nregardless of age.....but let&#39\;s be real\, hormones play a big role in this so we will discuss how men and women are affected as we age
LOCATION:Anytime Fitness Ham Lake 1321 Andover Blvd NE Ham Lake\, MN 55304
UID:e.380.171717
SEQUENCE:3
DTSTAMP:20260421T220913Z
URL:http://members.metronorthchamber.org/events/details/nutrition-for-optimal-performance-171717
END:VEVENT

END:VCALENDAR
