BEGIN:VCALENDAR
VERSION:2.0
PRODID:-//ChamberMaster//Event Calendar 2.0//EN
METHOD:PUBLISH
X-PUBLISHED-TTL:P3D
REFRESH-INTERVAL:P3D
CALSCALE:GREGORIAN
BEGIN:VEVENT
DTSTART;VALUE=DATE:20161101
DTEND;VALUE=DATE:20161201
TRANSP:TRANSPARENT
X-MICROSOFT-CDO-ALLDAYEVENT:TRUE
SUMMARY:November Gun of the Month - Walther PPS M2
DESCRIPTION:November Gun of the Month is the Walther PPS M2.\n\nEnter in store to win a FREE Walther PPS M2. \n\nSale Price: $429\n\nFREE rental on the firearm all month long!
X-ALT-DESC;FMTTYPE=text/html:November Gun of the Month is the Walther PPS M2.<br />\nEnter in store to win a FREE Walther PPS M2.&nbsp\;<br />\nSale Price: $429<br />\nFREE rental on the firearm all month long!
LOCATION:All Bill's Locations! ROBBINSDALE 4080 West Broadway Avenue\, Robbinsdale\, MN 55422 Telephone: 763-533-9594 FAX: 763-533-2997 Open 9am to 9pm 7 days a week! CIRCLE PINES 3621 88th Avenue North East\, Circle Pines\, MN 55014 Telephone: 763-792-4867 FAX: 763-784-7648 Open 9am to 9pm 7 days a week! HUDSON 1920 Crest View Drive Hudson\, WI 54016 Telephone: 715-690-1198 FAX: 715-220-4019 Open 9am to 9pm 7 days a week! FARGO 1040 35th Street North\, Fargo\, ND 58102 Telephone: 701-353-8748 FAX: 701-353-8749 Mon - Sat 9am to 9pm Sun 12pm to 9pm MOORHEAD 2901 Frontage Road S\, Suite 7 Moorhead\, MN 56560* Telephone: 218-208-4403 FAX: 218-208-4404 *Gunshop only Mon - Sat 11am to 8pm Sun 12pm to 5pm
UID:e.380.169869
SEQUENCE:3
DTSTAMP:20260422T015249Z
URL:http://members.metronorthchamber.org/events/details/november-gun-of-the-month-walther-pps-m2-169869
END:VEVENT

END:VCALENDAR
