BEGIN:VCALENDAR
VERSION:2.0
PRODID:-//ChamberMaster//Event Calendar 2.0//EN
METHOD:PUBLISH
X-PUBLISHED-TTL:P3D
REFRESH-INTERVAL:P3D
CALSCALE:GREGORIAN
BEGIN:VEVENT
DTSTART:20190511T150000Z
DTEND:20190511T190000Z
X-MICROSOFT-CDO-ALLDAYEVENT:FALSE
SUMMARY:Northtown Mall - Women's Professional Clothing Drive Benefitting Dress For Success Twin Cities
DESCRIPTION:Northtown Mall is hosting WoMN Strong and Dress For Success Twin Cities' annual Women's Professional Clothing Drive Donation from 10a-2p Saturday\, May 11th in the Burlington Court.  Please bring your gently used women's professional clothing and accessories because some women are just one great outfit away from their dream job!
X-ALT-DESC;FMTTYPE=text/html:Northtown Mall is hosting WoMN Strong and Dress For Success Twin Cities&#39\; annual Women&#39\;s Professional Clothing Drive Donation from 10a-2p Saturday\, May 11th in the Burlington Court.&nbsp\; Please bring your gently used women&#39\;s professional clothing and accessories because some women are just one great outfit away from their dream job!&nbsp\;
LOCATION:Northtown Mall's Burlington Court
UID:e.380.189282
SEQUENCE:3
DTSTAMP:20260420T041832Z
URL:http://members.metronorthchamber.org/events/details/northtown-mall-women-s-professional-clothing-drive-benefitting-dress-for-success-twin-cities-189282
END:VEVENT

END:VCALENDAR
