BEGIN:VCALENDAR
VERSION:2.0
PRODID:-//ChamberMaster//Event Calendar 2.0//EN
METHOD:PUBLISH
X-PUBLISHED-TTL:P3D
REFRESH-INTERVAL:P3D
CALSCALE:GREGORIAN
BEGIN:VEVENT
DTSTART:20150619T170000Z
DTEND:20150619T180000Z
X-MICROSOFT-CDO-ALLDAYEVENT:FALSE
SUMMARY:Northgate Liquor Ribbon Cutting
DESCRIPTION:The Northgate Liquor in Andover will be hosting a ribbon cutting on June 19th 12:00-1:00 p.m. The Ribbon Cutting is to celebrate their membership and their new craft beer room!
X-ALT-DESC;FMTTYPE=text/html:The Northgate Liquor in Andover will be hosting&nbsp\;a ribbon cutting on June 19th 12:00-1:00&nbsp\;p.m. The Ribbon Cutting is to celebrate their membership and their new craft beer room!
LOCATION:13627 Quinn St. NW Andover\, MN 55304
UID:e.380.157783
SEQUENCE:3
DTSTAMP:20260423T083839Z
URL:http://members.metronorthchamber.org/events/details/northgate-liquor-ribbon-cutting-06-19-2015-157783
END:VEVENT

END:VCALENDAR
