BEGIN:VCALENDAR
VERSION:2.0
PRODID:-//ChamberMaster//Event Calendar 2.0//EN
METHOD:PUBLISH
X-PUBLISHED-TTL:P3D
REFRESH-INTERVAL:P3D
CALSCALE:GREGORIAN
BEGIN:VEVENT
DTSTART:20120905T160000Z
DTEND:20120906T000000Z
X-MICROSOFT-CDO-ALLDAYEVENT:FALSE
SUMMARY:North Metro Mayors Association 24th Annual Golf Tournament
DESCRIPTION:Join the North Metro Mayors Association for their 24th Annual Golf Tournament on Wednesday\, September 5th at Bunker Hills Golf Club in Coon Rapids!  Registration starts at 11:00 a.m. and the shotgun will sound at approx. 12:45 p.m.  The cost has been kept at a very low $150 and includes lunch\, a putting contest for $500\, 18 holes\, cart\, dinner and drawings for door prizes!\n\n\n\nDownload the 24th Annual Golf Tournament form here.\n\n\n\nLADIES\, join us for our WOMEN'S 4 SOME SCRAMBLE CHALLENGE\, a Tournament-Within-A-Tournament Ladies-Only Event.  The ladies will play 2 rounds of 9 holes with teams competing for prizes in Golf Shop Credit up to $1\,600 for first place! $150.00 includes golf cart\, greens fee\, practice range balls\, lunch\, putting contest\, FREE golf apparel\, dinner & door prize drawings!\n\n\n\nDownload the WOMEN'S 4 SOME SCRAMBLE CHALLENGE form here.
X-ALT-DESC;FMTTYPE=text/html:<span style="font-size:11px\;"><span style="font-family: tahoma\;">Join the North Metro Mayors Association for their 24th Annual Golf Tournament on Wednesday\, September 5th at Bunker Hills Golf Club in Coon Rapids!&nbsp\; Registration starts at 11:00 a.m. and the shotgun will sound at approx. 12:45 p.m.&nbsp\; The cost has been kept at a very low $150 and includes lunch\, a putting contest for $500\, 18 holes\, cart\, dinner and drawings for door prizes!<br />\n<br />\nDownload the <span>24th</span> Annual Golf Tournament form <a href="http://cloud.chambermaster.com/userfiles/UserFiles/chambers/380/File/Golf_Invite_2012FINAL.pdf">here</a>.<br />\n<br />\nLADIES\, join us for our WOMEN&rsquo\;S 4 SOME SCRAMBLE CHALLENGE\, a Tournament-Within-A-Tournament Ladies-Only Event.&nbsp\; The ladies will play 2 rounds of 9 holes with teams competing for prizes in Golf Shop Credit up to $1\,600 for first place! $150.00 includes golf cart\, greens fee\, practice range balls\, lunch\, putting contest\, FREE golf apparel\, dinner &amp\; door prize drawings!<br />\n<br />\nDownload the WOMEN&rsquo\;S 4 SOME SCRAMBLE CHALLENGE form <a href="http://cloud.chambermaster.com/userfiles/UserFiles/chambers/380/File/W4SC_InviteFINAL.pdf">here</a>.</span></span><br />\n<br />\n
LOCATION:Bunker Hills Golf Club\, Coon Rapids
UID:e.380.146185
SEQUENCE:3
DTSTAMP:20260425T113755Z
URL:http://members.metronorthchamber.org/events/details/north-metro-mayors-association-24th-annual-golf-tournament-09-05-2012-146185
END:VEVENT

END:VCALENDAR
