BEGIN:VCALENDAR
VERSION:2.0
PRODID:-//ChamberMaster//Event Calendar 2.0//EN
METHOD:PUBLISH
X-PUBLISHED-TTL:P3D
REFRESH-INTERVAL:P3D
CALSCALE:GREGORIAN
BEGIN:VEVENT
DTSTART:20190323T140000Z
DTEND:20190323T200000Z
X-MICROSOFT-CDO-ALLDAYEVENT:FALSE
SUMMARY:North Metro Home & Outdoor Adventure Expo
DESCRIPTION:Experience dozens of unique vendors\, including features on luxury vinyl flooring\, travel ideas\, beautiful portrait photography\, unique plants and gardens\, hunting tips\, and winter activities.\n\n	Seminar Schedule- 10:30 am "Born in the Wild\, Rock Gardens: a Gateway into Nature" by Betty Ann Addison- Gardens of Rice Creek\n	12:00 PM  "Popularly Sought For Luxury Vinyl" by Candy L. Weisenberger- Owner House2Home Flooring & Design Studio\n	1:30 PM "Protect Your Special Places and Spaces" by Mississippi Watershed Management Organization\n	Kids' Corner- Inflateable Archery with the Boy Scouts\n	Door prize drawings througout the day\, including a Helicopter Ride out of Holman Field and Dinner\, donated by MN Helicopter\n	Concessions available for purchase\n	No cost to attend show\, nonperishable food donations appreciated\n\nVendors\n\nAdvance Companies\, Inc.\n\nAmeriprise The Harris Group\n\nArchway Contracting\n\nASAP Vacuum\n\nBig Time Sports Auctions\n\nBoarder State Bank\n\nBW Portrait Art\n\nHom Furniture (Hom Floors)\n\nHome Depot Coon Rapids\n\nHome Garage Floor\n\nHoule Insulation\n\nHouse2Home Flooring & Design Studio(Title Sponsor)\n\nJB Picture Framing Studio\n\nMaid Pro\n\nMetroNorth Chamber of Commerce\n\nMickman Brothers\, Inc\n\nMississippi Watershed Management Organization\n\nMon-Ray Inc.\n\nMr. Handyman of New Brighton & WBL\n\nMurphy Bros. Design | Build | Remodel\n\nNorthwest Passage High School\n\nPheasants Forever Legendary Longtails\n\nPlow World Power Equipment\n\nGardens of Rice Creek\n\nTravel Leaders Blaine/Disney\n\nTwin Cities Harley- Davidson Blaine\n\nVictory Links\n\nWild Mountain\n\nWilliston Irrigations\n\nYMCA Emma B. Howe/YMCA Andover/Kids Camp
X-ALT-DESC;FMTTYPE=text/html:Experience dozens of unique vendors\, including features on luxury vinyl flooring\, travel ideas\, beautiful portrait photography\, unique plants and gardens\, hunting tips\, and winter activities.\n<ul>\n	<li>Seminar Schedule- 10:30 am &quot\;Born in the Wild\, Rock Gardens: a Gateway into Nature&quot\; by Betty Ann Addison- Gardens of Rice Creek</li>\n	<li>12:00 PM&nbsp\; &quot\;Popularly Sought For Luxury Vinyl&quot\; by Candy L. Weisenberger- Owner House2Home Flooring &amp\; Design Studio</li>\n	<li>1:30 PM &quot\;Protect Your Special Places and Spaces&quot\; by Mississippi Watershed Management Organization</li>\n	<li>Kids&#39\; Corner- Inflateable Archery with the Boy Scouts</li>\n	<li>Door prize drawings througout the day\, including a Helicopter Ride out of Holman Field and Dinner\, donated by MN Helicopter</li>\n	<li>Concessions available for purchase</li>\n	<li>No cost to attend show\, nonperishable food donations appreciated</li>\n</ul>\n<strong><u><span style="font-family:arial\,sans-serif\;">Vendors</span></u></strong><br />\n<span style="font-family:arial\,sans-serif\;">Advance Companies\, Inc.</span><br />\n<span style="font-family:arial\,sans-serif\;">Ameriprise The Harris Group</span><br />\n<span style="font-family:arial\,sans-serif\;">Archway Contracting</span><br />\n<span style="font-family:arial\,sans-serif\;">ASAP Vacuum</span><br />\n<span style="font-family:arial\,sans-serif\;">Big Time Sports Auctions</span><br />\n<span style="font-family:arial\,sans-serif\;">Boarder State Bank</span><br />\n<span style="font-family:arial\,sans-serif\;">BW Portrait Art</span><br />\n<span style="font-family:arial\,sans-serif\;">Hom Furniture (Hom Floors)</span><br />\n<span style="font-family:arial\,sans-serif\;">Home Depot Coon Rapids</span><br />\n<span style="font-family:arial\,sans-serif\;">Home Garage Floor</span><br />\n<span style="font-family:arial\,sans-serif\;">Houle Insulation</span><br />\n<span style="font-family:arial\,sans-serif\;">House2Home Flooring &amp\; Design Studio(Title Sponsor)</span><br />\n<span style="font-family:arial\,sans-serif\;">JB Picture Framing Studio</span><br />\n<span style="font-family:arial\,sans-serif\;">Maid Pro</span><br />\n<span style="font-family:arial\,sans-serif\;">MetroNorth Chamber of Commerce</span><br />\n<span style="font-family:arial\,sans-serif\;">Mickman Brothers\, Inc</span><br />\n<span style="font-family:arial\,sans-serif\;">Mississippi Watershed Management Organization</span><br />\n<span style="font-family:arial\,sans-serif\;">Mon-Ray Inc.</span><br />\n<span style="font-family:arial\,sans-serif\;">Mr. Handyman of New Brighton &amp\; WBL</span><br />\n<span style="font-family:arial\,sans-serif\;">Murphy Bros. Design | Build | Remodel</span><br />\n<span style="font-family:arial\,sans-serif\;">Northwest Passage High School</span><br />\n<span style="font-family:arial\,sans-serif\;">Pheasants Forever Legendary Longtails</span><br />\n<span style="font-family:arial\,sans-serif\;">Plow World Power Equipment</span><br />\n<span style="font-family:arial\,sans-serif\;">Gardens of Rice Creek</span><br />\n<span style="font-family:arial\,sans-serif\;">Travel Leaders Blaine/Disney</span><br />\n<span style="font-family:arial\,sans-serif\;">Twin Cities Harley- Davidson Blaine</span><br />\n<span style="font-family:arial\,sans-serif\;">Victory Links</span><br />\n<span style="font-family:arial\,sans-serif\;">Wild Mountain</span><br />\n<span style="font-family:arial\,sans-serif\;">Williston Irrigations</span><br />\n<span style="font-family:arial\,sans-serif\;">YMCA Emma B. Howe/YMCA Andover/Kids Camp</span><br />\n&nbsp\;
LOCATION:National Sports Center 1750 105th Avenue NE Blaine 55449
UID:e.380.187128
SEQUENCE:3
DTSTAMP:20260420T060731Z
URL:http://members.metronorthchamber.org/events/details/north-metro-home-outdoor-adventure-expo-187128
END:VEVENT

END:VCALENDAR
