BEGIN:VCALENDAR
VERSION:2.0
PRODID:-//ChamberMaster//Event Calendar 2.0//EN
METHOD:PUBLISH
X-PUBLISHED-TTL:P3D
REFRESH-INTERVAL:P3D
CALSCALE:GREGORIAN
BEGIN:VEVENT
DTSTART:20191012T230000Z
DTEND:20191013T003000Z
X-MICROSOFT-CDO-ALLDAYEVENT:FALSE
SUMMARY:Ninja Zone Clinic
DESCRIPTION:Come test your strength and agility at one of our ninja clinics! No experience necessary! Our gym will be equipped with several ninja courses for you to HI-YAH through. Our trained staff will instruct and guide you through each course. Ages 6 and older.
X-ALT-DESC;FMTTYPE=text/html:<div>Come test your strength and agility at one of our ninja clinics! No experience necessary! Our gym will be equipped with several ninja courses for you to HI-YAH&nbsp\;through.&nbsp\;Our trained staff will instruct and guide you through each&nbsp\;course. Ages 6 and older.</div>\n
LOCATION:1460 133rd Lane\, NE Ham Lake
UID:e.380.191428
SEQUENCE:3
DTSTAMP:20260419T180242Z
URL:http://members.metronorthchamber.org/events/details/ninja-zone-clinic-10-12-2019-191428
END:VEVENT

END:VCALENDAR
