BEGIN:VCALENDAR
VERSION:2.0
PRODID:-//ChamberMaster//Event Calendar 2.0//EN
METHOD:PUBLISH
X-PUBLISHED-TTL:P3D
REFRESH-INTERVAL:P3D
CALSCALE:GREGORIAN
BEGIN:VEVENT
DTSTART:20190413T230000Z
DTEND:20190414T003000Z
X-MICROSOFT-CDO-ALLDAYEVENT:FALSE
SUMMARY:Ninja Zone Clinic
DESCRIPTION:Come learn some fun Ninja moves!
X-ALT-DESC;FMTTYPE=text/html:Come learn some fun Ninja moves!
LOCATION:1460 133rd Lane NE\, Ham Lake
UID:e.380.188851
SEQUENCE:3
DTSTAMP:20260420T041422Z
URL:http://members.metronorthchamber.org/events/details/ninja-zone-clinic-04-13-2019-188851
END:VEVENT

END:VCALENDAR
