BEGIN:VCALENDAR
VERSION:2.0
PRODID:-//ChamberMaster//Event Calendar 2.0//EN
METHOD:PUBLISH
X-PUBLISHED-TTL:P3D
REFRESH-INTERVAL:P3D
CALSCALE:GREGORIAN
BEGIN:VEVENT
DTSTART:20190323T230000Z
DTEND:20190324T003000Z
X-MICROSOFT-CDO-ALLDAYEVENT:FALSE
SUMMARY:Ninja Zone Clinic
DESCRIPTION:Kids ages 6 and older can learn Ninja skills.
X-ALT-DESC;FMTTYPE=text/html:Kids ages 6 and older can learn Ninja skills.
LOCATION:Jam Hops\, 1460 133rd Lane NE\, Ham Lake
UID:e.380.188406
SEQUENCE:3
DTSTAMP:20260420T060204Z
URL:http://members.metronorthchamber.org/events/details/ninja-zone-clinic-03-23-2019-188406
END:VEVENT

END:VCALENDAR
