BEGIN:VCALENDAR
VERSION:2.0
PRODID:-//ChamberMaster//Event Calendar 2.0//EN
METHOD:PUBLISH
X-PUBLISHED-TTL:P3D
REFRESH-INTERVAL:P3D
CALSCALE:GREGORIAN
BEGIN:VEVENT
DTSTART:20190224T000000Z
DTEND:20190224T013000Z
X-MICROSOFT-CDO-ALLDAYEVENT:FALSE
SUMMARY:Ninja Zone Clinic
DESCRIPTION:Come be a Ninja on our Ninja Zone obstacles. Sign up by February 15th and receive 1/2 off the fee.
X-ALT-DESC;FMTTYPE=text/html:Come be a Ninja on our Ninja Zone obstacles. Sign up by February 15th and receive 1/2 off the fee.
LOCATION:Jam Hops\, 1460 133rd Lane NE\, Ham Lake
UID:e.380.188361
SEQUENCE:3
DTSTAMP:20260420T073907Z
URL:http://members.metronorthchamber.org/events/details/ninja-zone-clinic-02-23-2019-188361
END:VEVENT

END:VCALENDAR
