BEGIN:VCALENDAR
VERSION:2.0
PRODID:-//ChamberMaster//Event Calendar 2.0//EN
METHOD:PUBLISH
X-PUBLISHED-TTL:P3D
REFRESH-INTERVAL:P3D
CALSCALE:GREGORIAN
BEGIN:VEVENT
DTSTART:20190209T020000Z
DTEND:20190209T070000Z
X-MICROSOFT-CDO-ALLDAYEVENT:FALSE
SUMMARY:Wild Mountain Ski & Snowboard Area - Night Moves - Late Night Skiing & Snowboarding
DESCRIPTION:NIGHT MOVES: Late night Skiing and Snowboarding\n\nEVERY FRIDAY 8:00pm - 1:00am\nFirst 200 guests receive a free slice of pizza and a soda EVERY Friday!
X-ALT-DESC;FMTTYPE=text/html:<h3><strong>NIGHT MOVES:</strong>&nbsp\;Late night Skiing and Snowboarding</h3>\n\n<h4><strong>EVERY FRIDAY 8:00pm - 1:00am</strong></h4>\n<span style="background-color:rgb(255\, 255\, 255)\; color:rgb(51\, 51\, 51)\; font-family:arial\,helvetica\,sans-serif\; font-size:13px">First 200 guests receive a free slice of pizza and a soda EVERY Friday!</span>
LOCATION:Wild Mountain Ski & Snowboard Area 37200 Wild Mountain Rd\, Taylors Falls\, MN 55084
UID:e.380.188163
SEQUENCE:3
DTSTAMP:20260420T074255Z
URL:http://members.metronorthchamber.org/events/details/night-moves-late-night-skiing-snowboarding-02-08-2019-188163
END:VEVENT

END:VCALENDAR
