BEGIN:VCALENDAR
VERSION:2.0
PRODID:-//ChamberMaster//Event Calendar 2.0//EN
METHOD:PUBLISH
X-PUBLISHED-TTL:P3D
REFRESH-INTERVAL:P3D
CALSCALE:GREGORIAN
BEGIN:VEVENT
DTSTART:20160103T013000Z
DTEND:20160103T033000Z
X-MICROSOFT-CDO-ALLDAYEVENT:FALSE
SUMMARY:New Years Eve Comedy in Mounds View
DESCRIPTION:Critically acclaimed comedian Dwight York presents his outrageous fluid stream of some of the funniest one-liners this side of Steven Wright! Ring in the New Year with the Twin Cities favorite and favorite of bikers from coast-to-coast!
X-ALT-DESC;FMTTYPE=text/html:<span style="color: rgb(0\, 0\, 128)\; font-family: Helvetica\, Arial\, sans-serif\; font-size: 12px\; line-height: normal\;">Critically acclaimed comedian Dwight York presents his outrageous fluid stream of some of the funniest one-liners this side of Steven Wright! Ring in the New Year with the Twin Cities favorite and favorite of bikers from coast-to-coast!</span>
LOCATION:Moe's Supperclub 2400 Highway 10 Mounds View\, MN 55112
UID:e.380.159895
SEQUENCE:3
DTSTAMP:20260422T192341Z
URL:http://members.metronorthchamber.org/events/details/new-years-eve-comedy-in-mounds-view-01-02-2016-159895
END:VEVENT

END:VCALENDAR
