BEGIN:VCALENDAR
VERSION:2.0
PRODID:-//ChamberMaster//Event Calendar 2.0//EN
METHOD:PUBLISH
X-PUBLISHED-TTL:P3D
REFRESH-INTERVAL:P3D
CALSCALE:GREGORIAN
BEGIN:VEVENT
DTSTART:20160101T003000Z
DTEND:20160101T060000Z
X-MICROSOFT-CDO-ALLDAYEVENT:FALSE
SUMMARY:New Year's Eve Celebration
DESCRIPTION:The Courtyards Of Andover will be bringing in the new year with a new year's eve celebration\, complete with dinner and a show! The event starts at 6:30 pm with music and dancing after a comedic show with Michael Thorne. \n\n\n\nThis is a semi-formal (no jeans or t-shirts please) affair with cocktail hour\, hors d'oeuvres\, served dinner\, comedy show\, music\, dancing and a midnight champagne toast\n\n\n\nCall 763.754.6953 or visit CourtyardsOfAndover.com
X-ALT-DESC;FMTTYPE=text/html:The Courtyards Of Andover will be bringing in the new year with a new year&#39\;s eve celebration\, complete with dinner and a show! The event starts at 6:30&nbsp\;pm with music and dancing after a comedic&nbsp\;show with Michael Thorne.&nbsp\;<br />\n<br />\nThis is a semi-formal <em>(no jeans or t-shirts please)</em> affair with cocktail hour\, hors d&#39\;oeuvres\, served dinner\, comedy show\, music\, dancing and a midnight champagne toast<br />\n<br />\nCall 763.754.6953 or visit CourtyardsOfAndover.com
LOCATION:Courtyards of Andover 13545 Martin St. NW Andover
UID:e.380.159902
SEQUENCE:3
DTSTAMP:20260422T192016Z
URL:http://members.metronorthchamber.org/events/details/new-year-s-eve-celebration-12-31-2015-159902
END:VEVENT

END:VCALENDAR
