BEGIN:VCALENDAR
VERSION:2.0
PRODID:-//ChamberMaster//Event Calendar 2.0//EN
METHOD:PUBLISH
X-PUBLISHED-TTL:P3D
REFRESH-INTERVAL:P3D
CALSCALE:GREGORIAN
BEGIN:VEVENT
DTSTART:20150106T010000Z
DTEND:20150106T020000Z
X-MICROSOFT-CDO-ALLDAYEVENT:FALSE
SUMMARY:New Year New You
DESCRIPTION:Get a wow-worthy New Year Makeover featuring hot lips and sizzling eyes! Gift for every guest! Bring a friend and get a $10 Mary Kay Gift Certificate!
X-ALT-DESC;FMTTYPE=text/html:Get a wow-worthy New Year Makeover featuring hot lips and sizzling eyes! Gift for every guest! Bring a friend and get a $10 Mary Kay Gift Certificate!<br />\n<br />\n&nbsp\;
LOCATION:Civic Center 11155 Robinson Dr Coon Rapids\, MN
UID:e.380.152518
SEQUENCE:3
DTSTAMP:20260423T144647Z
URL:http://members.metronorthchamber.org/events/details/new-year-new-you-01-05-2015-152518
END:VEVENT

END:VCALENDAR
