BEGIN:VCALENDAR
VERSION:2.0
PRODID:-//ChamberMaster//Event Calendar 2.0//EN
METHOD:PUBLISH
X-PUBLISHED-TTL:P3D
REFRESH-INTERVAL:P3D
CALSCALE:GREGORIAN
BEGIN:VEVENT
DTSTART:20171017T213000Z
DTEND:20171017T230000Z
X-MICROSOFT-CDO-ALLDAYEVENT:FALSE
SUMMARY:New Member Welcome Reception
DESCRIPTION:Exclusive welcome reception for July\, August\, and September 2017 new Chamber members. Hosted by the MetroNorth Ambassadors. By invitation only.
X-ALT-DESC;FMTTYPE=text/html:Exclusive welcome reception for July\, August\, and September 2017 new Chamber members. Hosted by the MetroNorth Ambassadors. By invitation only.
LOCATION:The Mermaid 2200 Mounds View Boulevard Mounds View 55112
UID:e.380.176748
SEQUENCE:3
DTSTAMP:20260421T082215Z
URL:http://members.metronorthchamber.org/events/details/new-member-welcome-reception-176748
END:VEVENT

END:VCALENDAR
