BEGIN:VCALENDAR
VERSION:2.0
PRODID:-//ChamberMaster//Event Calendar 2.0//EN
METHOD:PUBLISH
X-PUBLISHED-TTL:P3D
REFRESH-INTERVAL:P3D
CALSCALE:GREGORIAN
BEGIN:VEVENT
DTSTART:20170718T213000Z
DTEND:20170718T230000Z
X-MICROSOFT-CDO-ALLDAYEVENT:FALSE
SUMMARY:New Member Reception
DESCRIPTION:A special invitation only event to welcome April\, May and June 2017 new members! We want to be sure you have an AMAZING member experience.  Our Ambassadors want to meet you & learn more about your business!
X-ALT-DESC;FMTTYPE=text/html:A special invitation only event to welcome April\, May and June 2017 new members! We want to be sure you have an AMAZING member experience. &nbsp\;Our Ambassadors want to meet you &amp\; learn more about your business!&nbsp\;&nbsp\;&nbsp\;&nbsp\;&nbsp\;&nbsp\;&nbsp\;&nbsp\;
LOCATION:Willy McCoy's 13655 Martin St NW Andover 55304
UID:e.380.175139
SEQUENCE:3
DTSTAMP:20260421T134933Z
URL:http://members.metronorthchamber.org/events/details/new-member-reception-175139
END:VEVENT

END:VCALENDAR
