BEGIN:VCALENDAR
VERSION:2.0
PRODID:-//ChamberMaster//Event Calendar 2.0//EN
METHOD:PUBLISH
X-PUBLISHED-TTL:P3D
REFRESH-INTERVAL:P3D
CALSCALE:GREGORIAN
BEGIN:VEVENT
DTSTART:20170404T213000Z
DTEND:20170404T230000Z
X-MICROSOFT-CDO-ALLDAYEVENT:FALSE
SUMMARY:New Member Reception
DESCRIPTION:Welcome to the MetroNorth Chamber of Commerce! We want to be sure you have an AMAZING member experience. We want to meet you & learn more about your business. We can also answer any questions you may have about the Chamber.
X-ALT-DESC;FMTTYPE=text/html:Welcome to the MetroNorth Chamber of Commerce! We want to be sure you have an AMAZING member experience. We want to meet you &amp\; learn more about your business. We can also answer any questions you may have about the Chamber.&nbsp\;&nbsp\;&nbsp\;&nbsp\;&nbsp\;&nbsp\;
LOCATION:Moe's Restaurant 2400 Highway 10 Mounds View\, MN 55112
UID:e.380.171390
SEQUENCE:3
DTSTAMP:20260421T170140Z
URL:http://members.metronorthchamber.org/events/details/new-member-reception-171390
END:VEVENT

END:VCALENDAR
