BEGIN:VCALENDAR
VERSION:2.0
PRODID:-//ChamberMaster//Event Calendar 2.0//EN
METHOD:PUBLISH
X-PUBLISHED-TTL:P3D
REFRESH-INTERVAL:P3D
CALSCALE:GREGORIAN
BEGIN:VEVENT
DTSTART:20170110T223000Z
DTEND:20170111T000000Z
X-MICROSOFT-CDO-ALLDAYEVENT:FALSE
SUMMARY:New Member Reception
DESCRIPTION:Welcome to the MetroNorth Chamber of Commerce! We want to be sure you have an AMAZING member experience. As Ambassadors\, we want to meet you & learn more about your business. We can also answer any questions you may have about the Chamber. \n\nPlease join us on January 10th!
X-ALT-DESC;FMTTYPE=text/html:<span style="language:en-US\;"><span style="font-family:calibri\;"><span style="font-size:12.0pt\;">Welcome to the MetroNorth Chamber of Commerce! We want to be sure you have an AMAZING member experience. As Ambassadors\, we want to meet you &amp\; learn more about your business. We can also answer any questions you may have about the Chamber. </span></span></span><br />\n<span style="font-weight:bold\;language:en-US\;"><span style="font-family:calibri\;"><span style="font-size:12.0pt\;">Please join us on January 10th! </span></span></span><br />\n&nbsp\;
LOCATION:Muddy Cow Bar & Grill 133 Coon Rapids Boulevard Coon Rapids\, MN 55433
UID:e.380.170186
SEQUENCE:3
DTSTAMP:20260421T220949Z
URL:http://members.metronorthchamber.org/events/details/new-member-reception-170186
END:VEVENT

END:VCALENDAR
