BEGIN:VCALENDAR
VERSION:2.0
PRODID:-//ChamberMaster//Event Calendar 2.0//EN
METHOD:PUBLISH
X-PUBLISHED-TTL:P3D
REFRESH-INTERVAL:P3D
CALSCALE:GREGORIAN
BEGIN:VEVENT
DTSTART:20150714T213000Z
DTEND:20150714T230000Z
X-MICROSOFT-CDO-ALLDAYEVENT:FALSE
SUMMARY:New Member Reception
DESCRIPTION:New Member Reception. This is a special invitation for new members of April\, May\, June. We want to be sure you have an amazing member experience! As Ambassadors\, we want to meet you & learn more about your business. we can also answer any questions you may have about the Chamber.
X-ALT-DESC;FMTTYPE=text/html:<span style="line-height: 20.7999992370605px\;">New Member Reception. This is a special invitation for new members of&nbsp\;</span><strong style="line-height: 20.7999992370605px\;">April\, May\, June</strong><span style="line-height: 20.7999992370605px\;">. We want to be sure you have an amazing member experience! As Ambassadors\, we want to meet you &amp\; learn more about your business. we can also answer any questions you may have about the Chamber.</span>
LOCATION:Dixie Blue Bar-B-Que 2330 Cloud Drive Suite 101 Blaine\, MN 55449
UID:e.380.157782
SEQUENCE:3
DTSTAMP:20260423T071342Z
URL:http://members.metronorthchamber.org/events/details/new-member-reception-07-14-2015-157782
END:VEVENT

END:VCALENDAR
