BEGIN:VCALENDAR
VERSION:2.0
PRODID:-//ChamberMaster//Event Calendar 2.0//EN
METHOD:PUBLISH
X-PUBLISHED-TTL:P3D
REFRESH-INTERVAL:P3D
CALSCALE:GREGORIAN
BEGIN:VEVENT
DTSTART:20160112T223000Z
DTEND:20160113T000000Z
X-MICROSOFT-CDO-ALLDAYEVENT:FALSE
SUMMARY:New Member Reception
DESCRIPTION:New Member Reception. This is a special invitation for new members of October\, November\, & December. We want to be sure you have an amazing member experience! As Ambassadors\, we want to meet you & learn more about your business. We can also answer any questions you may have about the Chamber.
X-ALT-DESC;FMTTYPE=text/html:New Member Reception. This is a special invitation for new members of October\, November\, &amp\; December. We want to be sure you have an amazing member experience! As Ambassadors\, we want to meet you &amp\; learn more about your business. We can also answer any questions you may have about the Chamber.
LOCATION:Q-Bitez Appetizers & Spirits 3507 Round Lake Blvd Suite 500 Anoka\, MN 55303
UID:e.380.159877
SEQUENCE:3
DTSTAMP:20260422T204720Z
URL:http://members.metronorthchamber.org/events/details/new-member-reception-01-12-2016-159877
END:VEVENT

END:VCALENDAR
