BEGIN:VCALENDAR
VERSION:2.0
PRODID:-//ChamberMaster//Event Calendar 2.0//EN
METHOD:PUBLISH
X-PUBLISHED-TTL:P3D
REFRESH-INTERVAL:P3D
CALSCALE:GREGORIAN
BEGIN:VEVENT
DTSTART:20151210T173000Z
DTEND:20151210T191500Z
X-MICROSOFT-CDO-ALLDAYEVENT:FALSE
SUMMARY:Never Give Up: The Survivor Way
DESCRIPTION:On Thursday\, Dec 10\, meet Holly Hoffman\, the last woman standing on Season 21 of CBS' hit reality show "Survivor Nicaragua". Through that experience\, and others throughout her life\, Holly was inspired to share her message of positivity\, determination and confidence with business leaders across the nation. Holly acknowledges that life is made up of challenges\, and we are oftentimes faced with situations that seem insurmountable. But within each of us is an ability to focus our thoughts\, emotions\, and energy to succeed if only we have the knowledge\, tools\, and discipline to do so.\n\n \n\nHolly's keynote is just part of a full Annual Meeting program. Join us at the Banquets of Minnesota\, Fridley\, for this capstone event. $25/$185 table\, includes lunch. Thanks to sponsor Grand Casino Mille Lacs Hinckley.
X-ALT-DESC;FMTTYPE=text/html:<span style="color: black\;">On Thursday\, Dec 10\, meet Holly Hoffman\, </span>the last woman standing on Season 21 of CBS&rsquo\; hit reality show &ldquo\;Survivor Nicaragua&rdquo\;. Through that experience\, and others throughout her life\, Holly was inspired to share her message of positivity\, determination and confidence with business leaders across the nation. Holly acknowledges that life is made up of challenges\, and we are oftentimes faced with situations that seem insurmountable. But within each of us is an ability to focus our thoughts\, emotions\, and energy to succeed&mdash\;if only we have the knowledge\, tools\, and discipline to do so.<br />\n&nbsp\;<br />\nHolly&rsquo\;s keynote is just part of a full Annual Meeting program. Join us at the Banquets of Minnesota\, Fridley\, for this capstone event. $25/$185 table\, includes lunch. <em>Thanks to sponsor Grand Casino Mille Lacs Hinckley</em>.&nbsp\;
LOCATION:Banquets of Minnesota 6310 Highway 65 NE Fridley\, MN 55432
UID:e.380.159774
SEQUENCE:3
DTSTAMP:20260422T204852Z
URL:http://members.metronorthchamber.org/events/details/never-give-up-the-survivor-way-12-10-2015-159774
END:VEVENT

END:VCALENDAR
