BEGIN:VCALENDAR
VERSION:2.0
PRODID:-//ChamberMaster//Event Calendar 2.0//EN
METHOD:PUBLISH
X-PUBLISHED-TTL:P3D
REFRESH-INTERVAL:P3D
CALSCALE:GREGORIAN
BEGIN:VEVENT
DTSTART:20180418T220000Z
DTEND:20180418T233000Z
X-MICROSOFT-CDO-ALLDAYEVENT:FALSE
SUMMARY:Networking with Anita
DESCRIPTION:Networking Night with Anita \n\nEach evening a topic will be presented to be addressed.  Attendees will breakdown into small groups.  Each person will be given an allotted amount of time to share about your business.  You will leave with new connections and feel energized.
X-ALT-DESC;FMTTYPE=text/html:<strong><span style="color:#222222\;"><span style="font-family:arial\,sans-serif\;"><span style="font-size:16.0pt\;">Networking Night with Anita</span></span></span></strong><span style="color:#222222\;"><span style="font-family:arial\,sans-serif\;"><span style="font-size:9.5pt\;">&nbsp\;</span></span></span><br />\n<span style="color:#222222\;"><span style="font-family:arial\,sans-serif\;"><span style="font-size:9.5pt\;">Each evening a topic will be presented to be addressed.&nbsp\; Attendees will breakdown into small groups.&nbsp\; Each person will be given an allotted amount of time to share about your business.&nbsp\; You will leave with new connections and feel energized.&nbsp\;&nbsp\; </span></span></span><br />\n<br />\n&nbsp\;
LOCATION:Cheers Pablo private room 12759 Riverdale Blvd Coon Rapids\, MN 55448
UID:e.380.181600
SEQUENCE:3
DTSTAMP:20260420T230731Z
URL:http://members.metronorthchamber.org/events/details/networking-with-anita-181600
END:VEVENT

END:VCALENDAR
