BEGIN:VCALENDAR
VERSION:2.0
PRODID:-//ChamberMaster//Event Calendar 2.0//EN
METHOD:PUBLISH
X-PUBLISHED-TTL:P3D
REFRESH-INTERVAL:P3D
CALSCALE:GREGORIAN
BEGIN:VEVENT
DTSTART:20120501T213000Z
DTEND:20120501T233000Z
X-MICROSOFT-CDO-ALLDAYEVENT:FALSE
SUMMARY:Networking Challenge
DESCRIPTION:Do you want to build your business and establish lasting relationships with other business professionals? Then you won't want to miss this event!\n\n\n\nEnjoy a FAST\, FUN AND FRIENDLY NETWORKING CHALLENGE at Brunswick Zone\, Blaine. Prizes to be awarded\; appetizers included!
X-ALT-DESC;FMTTYPE=text/html:<span style="font-size:11px\;"><span style="font-family: tahoma\;">Do you want to build your business and establish lasting relationships with other business professionals? Then you won&rsquo\;t want to miss this event!<br />\n<br />\nEnjoy a FAST\, FUN AND FRIENDLY NETWORKING CHALLENGE at Brunswick Zone\, Blaine. Prizes to be awarded\; appetizers included!</span></span><br />\n
LOCATION:Brunswick Zone - Blaine 11351 Ulysses Street NE
UID:e.380.143784
SEQUENCE:3
DTSTAMP:20260425T174700Z
URL:http://members.metronorthchamber.org/events/details/networking-challenge-05-01-2012-143784
END:VEVENT

END:VCALENDAR
