BEGIN:VCALENDAR
VERSION:2.0
PRODID:-//ChamberMaster//Event Calendar 2.0//EN
METHOD:PUBLISH
X-PUBLISHED-TTL:P3D
REFRESH-INTERVAL:P3D
CALSCALE:GREGORIAN
BEGIN:VEVENT
DTSTART:20161230T000000Z
DTEND:20161230T020000Z
X-MICROSOFT-CDO-ALLDAYEVENT:FALSE
SUMMARY:Nerf Kidz War Night
DESCRIPTION:Bring your kids for a night of Nerf gun fun! We will play some games and have targets to shoot at.
X-ALT-DESC;FMTTYPE=text/html:Bring your kids for a night of Nerf gun fun! We will play some games and have targets to shoot at.
LOCATION:14216 Lincoln St. NE\, Ham Lake
UID:e.380.170572
SEQUENCE:3
DTSTAMP:20260421T235246Z
URL:http://members.metronorthchamber.org/events/details/nerf-kidz-war-night-170572
END:VEVENT

END:VCALENDAR
