BEGIN:VCALENDAR
VERSION:2.0
PRODID:-//ChamberMaster//Event Calendar 2.0//EN
METHOD:PUBLISH
X-PUBLISHED-TTL:P3D
REFRESH-INTERVAL:P3D
CALSCALE:GREGORIAN
BEGIN:VEVENT
DTSTART:20190922T003000Z
DTEND:20190922T030000Z
X-MICROSOFT-CDO-ALLDAYEVENT:FALSE
SUMMARY:Nerf Kidz Night
DESCRIPTION:Calling all kids! You're invited to Jam Hops for a supervised NERF war\,  games\, activities. Participants will also receive a snack and some time for open gym. We will provide the NERF guns and protective eye wear.\n\n**Children are not allowed to use their own NERF guns.
X-ALT-DESC;FMTTYPE=text/html:<div style="text-align:center">Calling all kids! You&#39\;re invited&nbsp\;to Jam Hops for a supervised NERF&nbsp\;war\, &nbsp\;games\, activities. Participants will also receive&nbsp\;a snack&nbsp\;and some time for&nbsp\;open gym.&nbsp\;We will provide the NERF guns and protective eye wear.</div>\n\n<div style="text-align:center">**Children are not allowed to use their own NERF guns.</div>\n
LOCATION:1460 133rd Lane NE\, Ham Lake
UID:e.380.191168
SEQUENCE:3
DTSTAMP:20260419T210232Z
URL:http://members.metronorthchamber.org/events/details/nerf-kidz-night-09-21-2019-191168
END:VEVENT

END:VCALENDAR
