BEGIN:VCALENDAR
VERSION:2.0
PRODID:-//ChamberMaster//Event Calendar 2.0//EN
METHOD:PUBLISH
X-PUBLISHED-TTL:P3D
REFRESH-INTERVAL:P3D
CALSCALE:GREGORIAN
BEGIN:VEVENT
DTSTART:20190512T003000Z
DTEND:20190512T030000Z
X-MICROSOFT-CDO-ALLDAYEVENT:FALSE
SUMMARY:Nerf Kidz Night
DESCRIPTION:Come have fun playing supervised Nerf wars\, games and other activities. Also have a snack and open gym time.
X-ALT-DESC;FMTTYPE=text/html:Come have fun playing supervised Nerf wars\, games and other activities. Also have a snack and open gym time.
LOCATION:1460 133rd Lane NE\, Ham Lake
UID:e.380.188935
SEQUENCE:3
DTSTAMP:20260420T022621Z
URL:http://members.metronorthchamber.org/events/details/nerf-kidz-night-05-11-2019-188935
END:VEVENT

END:VCALENDAR
