BEGIN:VCALENDAR
VERSION:2.0
PRODID:-//ChamberMaster//Event Calendar 2.0//EN
METHOD:PUBLISH
X-PUBLISHED-TTL:P3D
REFRESH-INTERVAL:P3D
CALSCALE:GREGORIAN
BEGIN:VEVENT
DTSTART:20190414T003000Z
DTEND:20190414T030000Z
X-MICROSOFT-CDO-ALLDAYEVENT:FALSE
SUMMARY:Nerf Kidz Night
DESCRIPTION:Bring your kids for a fun night of playing with Nerf guns.
X-ALT-DESC;FMTTYPE=text/html:Bring your kids for a fun night of playing with Nerf guns.
LOCATION:1460 133rd Lane NE\, Ham Lake
UID:e.380.188849
SEQUENCE:3
DTSTAMP:20260420T131209Z
URL:http://members.metronorthchamber.org/events/details/nerf-kidz-night-04-13-2019-188849
END:VEVENT

END:VCALENDAR
