BEGIN:VCALENDAR
VERSION:2.0
PRODID:-//ChamberMaster//Event Calendar 2.0//EN
METHOD:PUBLISH
X-PUBLISHED-TTL:P3D
REFRESH-INTERVAL:P3D
CALSCALE:GREGORIAN
BEGIN:VEVENT
DTSTART:20190324T003000Z
DTEND:20190324T030000Z
X-MICROSOFT-CDO-ALLDAYEVENT:FALSE
SUMMARY:Nerf Kidz Night
DESCRIPTION:Kids ages 8-14 can have Nerf target shooting and Nerf wars and open gym time.
X-ALT-DESC;FMTTYPE=text/html:Kids ages 8-14 can have Nerf target shooting and Nerf wars and open gym time.
LOCATION:Jam Hops\, 1460 133rd Lane NE\, Ham Lake
UID:e.380.188405
SEQUENCE:3
DTSTAMP:20260420T055913Z
URL:http://members.metronorthchamber.org/events/details/nerf-kidz-night-03-23-2019-188405
END:VEVENT

END:VCALENDAR
