BEGIN:VCALENDAR
VERSION:2.0
PRODID:-//ChamberMaster//Event Calendar 2.0//EN
METHOD:PUBLISH
X-PUBLISHED-TTL:P3D
REFRESH-INTERVAL:P3D
CALSCALE:GREGORIAN
BEGIN:VEVENT
DTSTART:20190224T013000Z
DTEND:20190224T040000Z
X-MICROSOFT-CDO-ALLDAYEVENT:FALSE
SUMMARY:Nerf Kidz Night
DESCRIPTION:The kids will shoot at Nerf targets and have a Nerf war and open gym time.
X-ALT-DESC;FMTTYPE=text/html:The kids will shoot at Nerf targets and have a Nerf war and open gym time.
LOCATION:Jam Hops\, 1460 133rd Lane NE\, Ham Lake
UID:e.380.188363
SEQUENCE:3
DTSTAMP:20260420T073616Z
URL:http://members.metronorthchamber.org/events/details/nerf-kidz-night-02-23-2019-188363
END:VEVENT

END:VCALENDAR
