BEGIN:VCALENDAR
VERSION:2.0
PRODID:-//ChamberMaster//Event Calendar 2.0//EN
METHOD:PUBLISH
X-PUBLISHED-TTL:P3D
REFRESH-INTERVAL:P3D
CALSCALE:GREGORIAN
BEGIN:VEVENT
DTSTART:20160126T200000Z
DTEND:20160126T210000Z
X-MICROSOFT-CDO-ALLDAYEVENT:FALSE
SUMMARY:Navigating Your Hospital Stay
DESCRIPTION:Please join us at Autumn Glen Senior Living for "Navigating Your Hospital Stay"\n\nFREE community education event\n\nJanuary 26th (2pm-3pm)
X-ALT-DESC;FMTTYPE=text/html:Please join us at Autumn Glen Senior Living for &quot\;Navigating Your Hospital Stay&quot\;<br />\nFREE community education event<br />\nJanuary 26th (2pm-3pm)
LOCATION:Autumn Glen Senior Living\, 3715 Coon Rapids Blvd\, Coon Rapids\, MN 55344
UID:e.380.162940
SEQUENCE:3
DTSTAMP:20260422T205028Z
URL:http://members.metronorthchamber.org/events/details/navigating-your-hospital-stay-01-26-2016-162940
END:VEVENT

END:VCALENDAR
