BEGIN:VCALENDAR
VERSION:2.0
PRODID:-//ChamberMaster//Event Calendar 2.0//EN
METHOD:PUBLISH
X-PUBLISHED-TTL:P3D
REFRESH-INTERVAL:P3D
CALSCALE:GREGORIAN
BEGIN:VEVENT
DTSTART:20160216T133000Z
DTEND:20160216T150000Z
X-MICROSOFT-CDO-ALLDAYEVENT:FALSE
SUMMARY:Navigating the Senior Care Maze
DESCRIPTION:Please join us  for CEU opportunity at Autumn Glen Senior Living for "Navigation the Senior Care Maze"\n\npresented by Lifesprk. Complimentary light light breakfast will be served.  RSVP to Kris Bursey @ 763-772-4492
X-ALT-DESC;FMTTYPE=text/html:Please join us &nbsp\;for CEU opportunity at Autumn Glen Senior Living for &quot\;Navigation the Senior Care Maze&quot\;<br />\npresented by Lifesprk.&nbsp\;Complimentary&nbsp\;light light breakfast will be served. &nbsp\;RSVP to Kris Bursey @ 763-772-4492<br />\n<br />\n&nbsp\;
LOCATION:3715 Coon Rapids Blvd\, Coon Rapids\, MN 55344
UID:e.380.163106
SEQUENCE:3
DTSTAMP:20260422T180346Z
URL:http://members.metronorthchamber.org/events/details/navigating-the-senior-care-maze-02-16-2016-163106
END:VEVENT

END:VCALENDAR
