BEGIN:VCALENDAR
VERSION:2.0
PRODID:-//ChamberMaster//Event Calendar 2.0//EN
METHOD:PUBLISH
X-PUBLISHED-TTL:P3D
REFRESH-INTERVAL:P3D
CALSCALE:GREGORIAN
BEGIN:VEVENT
DTSTART:20160802T210000Z
DTEND:20160802T230000Z
X-MICROSOFT-CDO-ALLDAYEVENT:FALSE
SUMMARY:National Night out at Autumn Glen Senior Living!
DESCRIPTION:Please join us at Autumn Glen Senior Living for National Night Out!  Come tour\, enjoy rootbeer floats and listen to the music of the "Mello Knights!"
X-ALT-DESC;FMTTYPE=text/html:Please join us at Autumn Glen Senior Living for National Night Out!&nbsp\; Come tour\, enjoy rootbeer floats and listen to the music of the &quot\;Mello Knights!&quot\;
LOCATION:3715 Coon Rapids Blvd NW\, Coon Rapids MN 55433
UID:e.380.169121
SEQUENCE:3
DTSTAMP:20260422T072340Z
URL:http://members.metronorthchamber.org/events/details/national-night-out-at-autumn-glen-senior-living-08-02-2016-169121
END:VEVENT

END:VCALENDAR
