BEGIN:VCALENDAR
VERSION:2.0
PRODID:-//ChamberMaster//Event Calendar 2.0//EN
METHOD:PUBLISH
X-PUBLISHED-TTL:P3D
REFRESH-INTERVAL:P3D
CALSCALE:GREGORIAN
BEGIN:VEVENT
DTSTART:20180620T120000Z
DTEND:20180620T203000Z
X-MICROSOFT-CDO-ALLDAYEVENT:FALSE
SUMMARY:National Leadership Development Conference
DESCRIPTION:The National Leadership Development Conference will be held on June 19-20\, 2018 at Grand Casino Hinckley.  This years conference will help you discover the potential in others -  think about the potential on your team and how you can be the spark and light a fire beneath them!\n\n\n\n\n\nIf you have any questions about the conference or want to see who the speakers are please visit www.leadershipdevconc.com.
X-ALT-DESC;FMTTYPE=text/html:The National Leadership Development Conference will be held on June 19-20\, 2018 at Grand Casino Hinckley.&nbsp\; This years conference will help you discover the potential in others - &nbsp\;think about the potential on your team and how you can be the spark and light a fire beneath them!<br />\n<br />\n<br />\nIf you have any questions about the conference or want to see who the speakers are please visit <a href="http://www.leadershipdevconc.com">www.leadershipdevconc.com</a>.<br />\n&nbsp\;
LOCATION:Grand Casino Hinckley 777 Lady Luck Dr. Hinckley\, MN 55037
UID:e.380.180293
SEQUENCE:3
DTSTAMP:20260420T195919Z
URL:http://members.metronorthchamber.org/events/details/national-leadership-development-conference-180293
END:VEVENT

END:VCALENDAR
