BEGIN:VCALENDAR
VERSION:2.0
PRODID:-//ChamberMaster//Event Calendar 2.0//EN
METHOD:PUBLISH
X-PUBLISHED-TTL:P3D
REFRESH-INTERVAL:P3D
CALSCALE:GREGORIAN
BEGIN:VEVENT
DTSTART:20190315T130000Z
DTEND:20190315T150000Z
X-MICROSOFT-CDO-ALLDAYEVENT:FALSE
SUMMARY:MVPs: Building Your Dream Team!
DESCRIPTION:What do business owners want most from their employees?\n\nOne of the most difficult goals for business owners is to find\, recruit\, hire\, and retain the right people who will assist them in running and growing the business.\n\nThe core of all business success is your team. Without a talented team\, you may work long and hard\, but never accomplish much of anything.\n\nConsidering your team is a reflection of you and your business\, it is crucial you have a team that is on board with who you are\, what you do\, and where you're going.\n\nStop dreaming about having a dream team and take the necessary steps to make it happen!\n\nJoin us as we show you proven systems of recruiting great people\, empowering them\, and holding them accountable.\n\nWe encourage you to grab hold of this information and run with it!\n\nNOW is the time to say YES to your business!\n\nClear Direction. Focused Action. Real Results.
X-ALT-DESC;FMTTYPE=text/html:<p>What do business owners want most from their employees?</p>\n\n<p>One of the most difficult goals for business owners is to find\, recruit\, hire\, and retain the right people who will assist them in running and growing the business.</p>\n\n<p>The core of all business success is your team. Without a talented team\, you may work long and hard\, but never accomplish much of anything.</p>\n\n<p>Considering your team is a reflection of you and your business\, it is crucial you have a team that is on board with who you are\, what you do\, and where you&rsquo\;re going.</p>\n\n<p>Stop dreaming about having a dream team and take the necessary steps to make it happen!</p>\n\n<p>Join us as we show you proven systems of recruiting great people\, empowering them\, and holding them accountable.</p>\n\n<p>We encourage you to grab hold of this information and run with it!</p>\n\n<p><strong>NOW is the time to say YES to your business!</strong></p>\n\n<p><strong>Clear Direction. Focused Action. Real Results.</strong></p>\n
LOCATION:ActionCOACH MN Training Room 11188 Zealand Ave. N. Champlin\, MN 55316
UID:e.380.188495
SEQUENCE:3
DTSTAMP:20260420T073859Z
URL:http://members.metronorthchamber.org/events/details/mvps-building-your-dream-team-188495
END:VEVENT

END:VCALENDAR
