BEGIN:VCALENDAR
VERSION:2.0
PRODID:-//ChamberMaster//Event Calendar 2.0//EN
METHOD:PUBLISH
X-PUBLISHED-TTL:P3D
REFRESH-INTERVAL:P3D
CALSCALE:GREGORIAN
BEGIN:VEVENT
DTSTART:20190329T010000Z
DTEND:20190329T030000Z
X-MICROSOFT-CDO-ALLDAYEVENT:FALSE
SUMMARY:Music Mayhem
DESCRIPTION:Come join Majestic Oaks Golf Club for Music Trivia in the 46th Hole Bar & Grill every Thursday in March from 8pm-10pm
X-ALT-DESC;FMTTYPE=text/html:<strong><span style="background:#F4F0E8\;"><span style="color:#3F484D\;"><span style="font-family:arial\,sans-serif\;">Come join Majestic Oaks Golf Club for Music Trivia in the 46th Hole Bar &amp\; Grill every Thursday in March from 8pm-10pm</span></span></span></strong>
LOCATION:Majestic Oaks Golf Club 701 Bunker Lake Blvd NE Ham Lake\, MN
UID:e.380.188502
SEQUENCE:3
DTSTAMP:20260420T055726Z
URL:http://members.metronorthchamber.org/events/details/music-mayhem-188502
END:VEVENT

END:VCALENDAR
