BEGIN:VCALENDAR
VERSION:2.0
PRODID:-//ChamberMaster//Event Calendar 2.0//EN
METHOD:PUBLISH
X-PUBLISHED-TTL:P3D
REFRESH-INTERVAL:P3D
CALSCALE:GREGORIAN
BEGIN:VEVENT
DTSTART:20190308T020000Z
DTEND:20190308T040000Z
X-MICROSOFT-CDO-ALLDAYEVENT:FALSE
SUMMARY:Music Mayhem
DESCRIPTION:Come join Majestic Oaks Golf Club for Music Trivia in the 46th Hole Bar & Grill every Thursday in March from 8pm-10pm
X-ALT-DESC;FMTTYPE=text/html:<span style="box-sizing: border-box\; font-weight: 700\; color: rgb(63\, 72\, 77)\; font-family: proxima-nova\, arial\, sans-serif\; font-size: 16px\; background-color: rgb(244\, 240\, 232)\;">Come join Majestic Oaks Golf Club for Music Trivia in the 46th Hole Bar &amp\; Grill every Thursday in March from 8pm-10pm</span>
LOCATION:Majestic Oaks Golf Club 701 Bunker Lake Blvd NE Ham Lake\, MN 55304
UID:e.380.188499
SEQUENCE:3
DTSTAMP:20260420T054904Z
URL:http://members.metronorthchamber.org/events/details/music-mayhem-188499
END:VEVENT

END:VCALENDAR
