BEGIN:VCALENDAR
VERSION:2.0
PRODID:-//ChamberMaster//Event Calendar 2.0//EN
METHOD:PUBLISH
X-PUBLISHED-TTL:P3D
REFRESH-INTERVAL:P3D
CALSCALE:GREGORIAN
BEGIN:VEVENT
DTSTART:20160728T230000Z
DTEND:20160729T010000Z
X-MICROSOFT-CDO-ALLDAYEVENT:FALSE
SUMMARY:Murphy-Goode Wine Dinner at Sticks and Stones Restaurant\, Fogerty Arena in Blaine
DESCRIPTION:Join us for a fantastic evening!\n\nMURPHY-GOODE WINE DINNER at STICKS & STONES Restaurant\, Blaine!\n\nJuly 28th\n\n6-8 pm\n\n$50 per couple\n\n4-course meal\n\nPaired with 4 wines!\n\nDessert is included\n\n\nPLEASE CALL FOR RESERVATIONS\, space is limited. Call 763 233 0699
X-ALT-DESC;FMTTYPE=text/html:<p>Join us for a fantastic evening!</p>\n\n<p>MURPHY-GOODE WINE DINNER at STICKS &amp\; STONES Restaurant\, Blaine!</p>\n\n<p>July 28th<br />\n<span style="font-family:inherit">6-8 pm<br />\n$50 per couple<br />\n4-course meal<br />\nPaired with 4 wines!<br />\nDessert is included</span></p>\n\n<div>\n<p>PLEASE CALL FOR RESERVATIONS\, space is limited. Call 763 233 0699</p>\n</div>\n
LOCATION:Fogerty Arena Four Seasons Curling Club 9250 Lincoln St. NE Blaine\, MN 55434
UID:e.380.168651
SEQUENCE:3
DTSTAMP:20260422T085707Z
URL:http://members.metronorthchamber.org/events/details/murphy-goode-wine-dinner-at-sticks-and-stones-restaurant-fogerty-arena-in-blaine-07-28-2016-168651
END:VEVENT

END:VCALENDAR
