BEGIN:VCALENDAR
VERSION:2.0
PRODID:-//ChamberMaster//Event Calendar 2.0//EN
METHOD:PUBLISH
X-PUBLISHED-TTL:P3D
REFRESH-INTERVAL:P3D
CALSCALE:GREGORIAN
BEGIN:VEVENT
DTSTART:20120321T213000Z
DTEND:20120322T000000Z
X-MICROSOFT-CDO-ALLDAYEVENT:FALSE
SUMMARY:Multi-Chamber After Hours Event
DESCRIPTION:Join us for a Multi-Chamber After Hours event at Harvest Grill on March 21st from 4:30-7pm!\n\n\n\nHarvest Grill will provide complimentary appetizers and one free drink to attendees.
X-ALT-DESC;FMTTYPE=text/html:Join us for a Multi-Chamber After Hours event at Harvest Grill on March 21st from 4:30-7pm!<br />\n<br />\nHarvest Grill will provide complimentary appetizers and one free drink to attendees.
LOCATION:Harvest Grill at Bunker Hills Golf Course\, 12800 Bunker Prairie Road\, Coon Rapids.
UID:e.380.143470
SEQUENCE:3
DTSTAMP:20260425T210655Z
URL:http://members.metronorthchamber.org/events/details/multi-chamber-after-hours-event-03-21-2012-143470
END:VEVENT

END:VCALENDAR
